BEGIN:VCALENDAR
VERSION:2.0
PRODID:-//NEPIRC - ECPv6.15.17//NONSGML v1.0//EN
CALSCALE:GREGORIAN
METHOD:PUBLISH
X-ORIGINAL-URL:https://nepirc.com
X-WR-CALDESC:Events for NEPIRC
REFRESH-INTERVAL;VALUE=DURATION:PT1H
X-Robots-Tag:noindex
X-PUBLISHED-TTL:PT1H
BEGIN:VTIMEZONE
TZID:America/New_York
BEGIN:DAYLIGHT
TZOFFSETFROM:-0500
TZOFFSETTO:-0400
TZNAME:EDT
DTSTART:20250309T070000
END:DAYLIGHT
BEGIN:STANDARD
TZOFFSETFROM:-0400
TZOFFSETTO:-0500
TZNAME:EST
DTSTART:20251102T060000
END:STANDARD
BEGIN:DAYLIGHT
TZOFFSETFROM:-0500
TZOFFSETTO:-0400
TZNAME:EDT
DTSTART:20260308T070000
END:DAYLIGHT
BEGIN:STANDARD
TZOFFSETFROM:-0400
TZOFFSETTO:-0500
TZNAME:EST
DTSTART:20261101T060000
END:STANDARD
BEGIN:DAYLIGHT
TZOFFSETFROM:-0500
TZOFFSETTO:-0400
TZNAME:EDT
DTSTART:20270314T070000
END:DAYLIGHT
BEGIN:STANDARD
TZOFFSETFROM:-0400
TZOFFSETTO:-0500
TZNAME:EST
DTSTART:20271107T060000
END:STANDARD
END:VTIMEZONE
BEGIN:VEVENT
DTSTART;VALUE=DATE:20260114
DTEND;VALUE=DATE:20260115
DTSTAMP:20260422T063256
CREATED:20250604T155631Z
LAST-MODIFIED:20250813T173950Z
UID:10000235-1768348800-1768435199@nepirc.com
SUMMARY:Reasonable Suspicion Training - Virtual
DESCRIPTION:This 2-hour reasonable suspicion training equips supervisors with the skills to recognize and respond to potential drug or alcohol impairment in the workplace. \n 
URL:https://nepirc.com/event/medical-marijuana-reasonable-suspicion-training-jan-26/
CATEGORIES:Safety and OSHA Training
END:VEVENT
BEGIN:VEVENT
DTSTART;VALUE=DATE:20260128
DTEND;VALUE=DATE:20260129
DTSTAMP:20260422T063256
CREATED:20250604T143050Z
LAST-MODIFIED:20250604T143050Z
UID:10000215-1769558400-1769644799@nepirc.com
SUMMARY:Two-Hour Leadership Development Essentials -TekRidge Center
DESCRIPTION:Don’t miss out on this opportunity to start developing future leaders!
URL:https://nepirc.com/event/two-hour-leadership-development-essentials-tekridge/
CATEGORIES:Leadership Development
END:VEVENT
END:VCALENDAR