BEGIN:VCALENDAR
VERSION:2.0
PRODID:-//NEPIRC - ECPv6.15.17//NONSGML v1.0//EN
CALSCALE:GREGORIAN
METHOD:PUBLISH
X-ORIGINAL-URL:https://nepirc.com
X-WR-CALDESC:Events for NEPIRC
REFRESH-INTERVAL;VALUE=DURATION:PT1H
X-Robots-Tag:noindex
X-PUBLISHED-TTL:PT1H
BEGIN:VTIMEZONE
TZID:America/New_York
BEGIN:DAYLIGHT
TZOFFSETFROM:-0500
TZOFFSETTO:-0400
TZNAME:EDT
DTSTART:20240310T070000
END:DAYLIGHT
BEGIN:STANDARD
TZOFFSETFROM:-0400
TZOFFSETTO:-0500
TZNAME:EST
DTSTART:20241103T060000
END:STANDARD
BEGIN:DAYLIGHT
TZOFFSETFROM:-0500
TZOFFSETTO:-0400
TZNAME:EDT
DTSTART:20250309T070000
END:DAYLIGHT
BEGIN:STANDARD
TZOFFSETFROM:-0400
TZOFFSETTO:-0500
TZNAME:EST
DTSTART:20251102T060000
END:STANDARD
BEGIN:DAYLIGHT
TZOFFSETFROM:-0500
TZOFFSETTO:-0400
TZNAME:EDT
DTSTART:20260308T070000
END:DAYLIGHT
BEGIN:STANDARD
TZOFFSETFROM:-0400
TZOFFSETTO:-0500
TZNAME:EST
DTSTART:20261101T060000
END:STANDARD
END:VTIMEZONE
BEGIN:VEVENT
DTSTART;VALUE=DATE:20250708
DTEND;VALUE=DATE:20250709
DTSTAMP:20260422T181106
CREATED:20250522T210543Z
LAST-MODIFIED:20250522T210543Z
UID:10000206-1751932800-1752019199@nepirc.com
SUMMARY:OSHA 30 Training Course for General Industry - NEPIRC Hanover Twp/Virtual
DESCRIPTION:This OSHA 30 training course is intended for operations like production facilities and most other manufacturing sites\, health care providers\, warehousing and logistics operations\, oil and gas production and refinery sites\, and service industries. The course is usually spread over four consecutive days.
URL:https://nepirc.com/event/osha-30-training-course-for-general-industry-nepirc-hanover-twp-virtual/
CATEGORIES:Safety and OSHA Training
END:VEVENT
BEGIN:VEVENT
DTSTART;VALUE=DATE:20250709
DTEND;VALUE=DATE:20250710
DTSTAMP:20260422T181106
CREATED:20250424T200312Z
LAST-MODIFIED:20250424T200312Z
UID:10000205-1752019200-1752105599@nepirc.com
SUMMARY:8-Week Leadership Development Essentials
DESCRIPTION:What is NEPIRC’s Leadership Development Essentials program?\nLeadership Development Essentials is a series of eight highly interactive sessions that use a variety of instructional techniques\, including group discussions\, role playing\, self-assessments\, homework and practical applications. Participants are encouraged to bring their real-life professional issues to each session to facilitate on-the-job application of the skills learned. \nParticipants will come to understand how to effectively manage today’s workforce in the day-to-day operation of their respective organizations. \nOutline of Sessions:\nWeek 1: Leadership Skills for Team Leaders\, Supervisors and Managers \nWeek 2: Effective Communication Skills \nWeek 3: Conflict Management \nWeek 4: Motivation \nWeek 5: High-Performance Teams: Developing a Culture for Growth Based on Teamwork\, Trust and Transparency \nWeek 6: Change Management \nWeek 7: Creating a Respectful Workplace \nWeek 8: Performance Coaching\, Discipline and Interviewing \nSuccessful course completion and receipt of a NEPIRC completion credential requires attending a minimum of six out of the eight sessions. This ensures that participants engage comprehensively with the material and discussions\, maximizing their learning opportunities throughout the certification program. If a participant does not meet the attendance requirement\, they are eligible to attend a class at a later date.
URL:https://nepirc.com/event/8-week-leadership-development-essentials/
CATEGORIES:Leadership Development
END:VEVENT
END:VCALENDAR