BEGIN:VCALENDAR
VERSION:2.0
PRODID:-//NEPIRC - ECPv6.15.17//NONSGML v1.0//EN
CALSCALE:GREGORIAN
METHOD:PUBLISH
X-WR-CALNAME:NEPIRC
X-ORIGINAL-URL:https://nepirc.com
X-WR-CALDESC:Events for NEPIRC
REFRESH-INTERVAL;VALUE=DURATION:PT1H
X-Robots-Tag:noindex
X-PUBLISHED-TTL:PT1H
BEGIN:VTIMEZONE
TZID:America/New_York
BEGIN:DAYLIGHT
TZOFFSETFROM:-0500
TZOFFSETTO:-0400
TZNAME:EDT
DTSTART:20240310T070000
END:DAYLIGHT
BEGIN:STANDARD
TZOFFSETFROM:-0400
TZOFFSETTO:-0500
TZNAME:EST
DTSTART:20241103T060000
END:STANDARD
BEGIN:DAYLIGHT
TZOFFSETFROM:-0500
TZOFFSETTO:-0400
TZNAME:EDT
DTSTART:20250309T070000
END:DAYLIGHT
BEGIN:STANDARD
TZOFFSETFROM:-0400
TZOFFSETTO:-0500
TZNAME:EST
DTSTART:20251102T060000
END:STANDARD
BEGIN:DAYLIGHT
TZOFFSETFROM:-0500
TZOFFSETTO:-0400
TZNAME:EDT
DTSTART:20260308T070000
END:DAYLIGHT
BEGIN:STANDARD
TZOFFSETFROM:-0400
TZOFFSETTO:-0500
TZNAME:EST
DTSTART:20261101T060000
END:STANDARD
END:VTIMEZONE
BEGIN:VEVENT
DTSTART;VALUE=DATE:20250402
DTEND;VALUE=DATE:20250403
DTSTAMP:20260424T010035
CREATED:20240723T155944Z
LAST-MODIFIED:20250224T160147Z
UID:10000039-1743552000-1743638399@nepirc.com
SUMMARY:8-Week Leadership Development Essentials - Spring Program
DESCRIPTION:Leadership Development Essentials is a series of eight highly interactive sessions that use a variety of instructional techniques\, including group discussions\, role playing\, self-assessments\, homework\, and practical applications.
URL:https://nepirc.com/event/https-www-eventbrite-com-e-8-week-leadership-development-essentials-tekridge-center-jessup-registration-894514275277affoddtdtcreator/
CATEGORIES:Leadership Development
END:VEVENT
BEGIN:VEVENT
DTSTART;TZID=America/New_York:20250411T080000
DTEND;TZID=America/New_York:20250411T120000
DTSTAMP:20260424T010035
CREATED:20240723T160124Z
LAST-MODIFIED:20240723T160124Z
UID:10000040-1744358400-1744372800@nepirc.com
SUMMARY:6-S Training
DESCRIPTION:The 6-S System is a series of activities designed to achieve an overall improvement in efficiency\, product quality\, satisfaction of employees\, and mitigation of safety risks. Participants will learn how to apply the six activities that are at the core of the 6-S System: \n  \n 
URL:https://nepirc.com/event/6-s-training/
CATEGORIES:Lean and Six Sigma
END:VEVENT
BEGIN:VEVENT
DTSTART;VALUE=DATE:20250429
DTEND;VALUE=DATE:20250430
DTSTAMP:20260424T010035
CREATED:20250203T185414Z
LAST-MODIFIED:20250225T162353Z
UID:10000203-1745884800-1745971199@nepirc.com
SUMMARY:OSHA 30 Training Course for General Industry
DESCRIPTION:This OSHA 30 training course is intended for operations like production facilities and most other manufacturing sites\, health care providers\, warehousing and logistics operations\, oil and gas production and refinery sites\, and service industries. The course is usually spread over four consecutive days.
URL:https://nepirc.com/event/osha-30-april-program-2/
CATEGORIES:Safety and OSHA Training
END:VEVENT
END:VCALENDAR