BEGIN:VCALENDAR
VERSION:2.0
PRODID:-//NEPIRC - ECPv6.15.17//NONSGML v1.0//EN
CALSCALE:GREGORIAN
METHOD:PUBLISH
X-WR-CALNAME:NEPIRC
X-ORIGINAL-URL:https://nepirc.com
X-WR-CALDESC:Events for NEPIRC
REFRESH-INTERVAL;VALUE=DURATION:PT1H
X-Robots-Tag:noindex
X-PUBLISHED-TTL:PT1H
BEGIN:VTIMEZONE
TZID:America/New_York
BEGIN:DAYLIGHT
TZOFFSETFROM:-0500
TZOFFSETTO:-0400
TZNAME:EDT
DTSTART:20240310T070000
END:DAYLIGHT
BEGIN:STANDARD
TZOFFSETFROM:-0400
TZOFFSETTO:-0500
TZNAME:EST
DTSTART:20241103T060000
END:STANDARD
BEGIN:DAYLIGHT
TZOFFSETFROM:-0500
TZOFFSETTO:-0400
TZNAME:EDT
DTSTART:20250309T070000
END:DAYLIGHT
BEGIN:STANDARD
TZOFFSETFROM:-0400
TZOFFSETTO:-0500
TZNAME:EST
DTSTART:20251102T060000
END:STANDARD
BEGIN:DAYLIGHT
TZOFFSETFROM:-0500
TZOFFSETTO:-0400
TZNAME:EDT
DTSTART:20260308T070000
END:DAYLIGHT
BEGIN:STANDARD
TZOFFSETFROM:-0400
TZOFFSETTO:-0500
TZNAME:EST
DTSTART:20261101T060000
END:STANDARD
END:VTIMEZONE
BEGIN:VEVENT
DTSTART;TZID=America/New_York:20250908T083000
DTEND;TZID=America/New_York:20250908T103000
DTSTAMP:20260421T153536
CREATED:20250604T155156Z
LAST-MODIFIED:20250905T125359Z
UID:10000232-1757320200-1757327400@nepirc.com
SUMMARY:Coffee & Coaching Breakfast Meeting: Workplace Safety\, TekRidge & Virtual - SOLD OUT
DESCRIPTION:Join Brian Matyjevich\, NEPIRC’s Authorized OSHA Outreach Trainer\, at this complimentary coaching session on workplace safety.
URL:https://nepirc.com/event/coffee-coaching-breakfast-meeting-workplace-safety-tekridge-virtual/
CATEGORIES:Safety and OSHA Training
END:VEVENT
END:VCALENDAR