BEGIN:VCALENDAR
VERSION:2.0
PRODID:-//NEPIRC - ECPv6.15.17//NONSGML v1.0//EN
CALSCALE:GREGORIAN
METHOD:PUBLISH
X-ORIGINAL-URL:https://nepirc.com
X-WR-CALDESC:Events for NEPIRC
REFRESH-INTERVAL;VALUE=DURATION:PT1H
X-Robots-Tag:noindex
X-PUBLISHED-TTL:PT1H
BEGIN:VTIMEZONE
TZID:America/New_York
BEGIN:DAYLIGHT
TZOFFSETFROM:-0500
TZOFFSETTO:-0400
TZNAME:EDT
DTSTART:20230312T070000
END:DAYLIGHT
BEGIN:STANDARD
TZOFFSETFROM:-0400
TZOFFSETTO:-0500
TZNAME:EST
DTSTART:20231105T060000
END:STANDARD
BEGIN:DAYLIGHT
TZOFFSETFROM:-0500
TZOFFSETTO:-0400
TZNAME:EDT
DTSTART:20240310T070000
END:DAYLIGHT
BEGIN:STANDARD
TZOFFSETFROM:-0400
TZOFFSETTO:-0500
TZNAME:EST
DTSTART:20241103T060000
END:STANDARD
BEGIN:DAYLIGHT
TZOFFSETFROM:-0500
TZOFFSETTO:-0400
TZNAME:EDT
DTSTART:20250309T070000
END:DAYLIGHT
BEGIN:STANDARD
TZOFFSETFROM:-0400
TZOFFSETTO:-0500
TZNAME:EST
DTSTART:20251102T060000
END:STANDARD
BEGIN:DAYLIGHT
TZOFFSETFROM:-0500
TZOFFSETTO:-0400
TZNAME:EDT
DTSTART:20260308T070000
END:DAYLIGHT
BEGIN:STANDARD
TZOFFSETFROM:-0400
TZOFFSETTO:-0500
TZNAME:EST
DTSTART:20261101T060000
END:STANDARD
BEGIN:DAYLIGHT
TZOFFSETFROM:-0500
TZOFFSETTO:-0400
TZNAME:EDT
DTSTART:20270314T070000
END:DAYLIGHT
BEGIN:STANDARD
TZOFFSETFROM:-0400
TZOFFSETTO:-0500
TZNAME:EST
DTSTART:20271107T060000
END:STANDARD
END:VTIMEZONE
BEGIN:VEVENT
DTSTART;VALUE=DATE:20260417
DTEND;VALUE=DATE:20260418
DTSTAMP:20260422T065507
CREATED:20250604T154741Z
LAST-MODIFIED:20250604T154741Z
UID:10000229-1776384000-1776470399@nepirc.com
SUMMARY:Lean Tool Training: 6S System - TekRidge Center
DESCRIPTION:The 6S System is a series of activities designed to achieve an overall improvement in efficiency\, product quality\, satisfaction of employees and mitigation of safety risks. 
URL:https://nepirc.com/event/6s-system-tekridge/
CATEGORIES:Lean and Six Sigma
END:VEVENT
BEGIN:VEVENT
DTSTART;TZID=America/New_York:20260204T080000
DTEND;TZID=America/New_York:20260204T120000
DTSTAMP:20260422T065507
CREATED:20250604T154500Z
LAST-MODIFIED:20250604T154500Z
UID:10000227-1770192000-1770206400@nepirc.com
SUMMARY:Using Digital Twins in Manufacturing - Virtually via MS Teams
DESCRIPTION:Come to this workshop and find out how Digital Twins can bring value and efficiencies to multiple areas of your business.
URL:https://nepirc.com/event/using-digital-twins-in-manufacturing-virtual/
CATEGORIES:Lean and Six Sigma
END:VEVENT
BEGIN:VEVENT
DTSTART;TZID=America/New_York:20251203T080000
DTEND;TZID=America/New_York:20251203T163000
DTSTAMP:20260422T065507
CREATED:20250821T143100Z
LAST-MODIFIED:20251105T193333Z
UID:10000242-1764748800-1764779400@nepirc.com
SUMMARY:Six Sigma Yellow Belt Training - NEPIRC Hanover Twp
DESCRIPTION:NEPIRC’s Lean Six Sigma Yellow Belt Training course is taught by a certified Master Black Belt and offers practical application exercises for each step in the DMAIC (Define\, Measure\, Analyze\, Improve & Control) process. During this one-day course\, participants will cover the following topics:
URL:https://nepirc.com/event/six-sigma-yellow-belt-training-nepirc-hanover-twp/
CATEGORIES:Lean and Six Sigma
END:VEVENT
BEGIN:VEVENT
DTSTART;TZID=America/New_York:20251114T080000
DTEND;TZID=America/New_York:20251114T120000
DTSTAMP:20260422T065507
CREATED:20250604T153810Z
LAST-MODIFIED:20250604T153810Z
UID:10000223-1763107200-1763121600@nepirc.com
SUMMARY:Applications of Machine Learning in Manufacturing - Virtually via MS Teams
DESCRIPTION:This workshop will show you how ML can digest the mounds of data from your processes and turn it into conversational responses.
URL:https://nepirc.com/event/applications-of-machine-learning-virtual/
CATEGORIES:Lean and Six Sigma
END:VEVENT
BEGIN:VEVENT
DTSTART;VALUE=DATE:20251112
DTEND;VALUE=DATE:20251113
DTSTAMP:20260422T065507
CREATED:20240710T144537Z
LAST-MODIFIED:20250604T154332Z
UID:10000004-1762905600-1762991999@nepirc.com
SUMMARY:Lean Specialist Certificate - NEPIRC Hanover Twp.
DESCRIPTION:NEPIRC’s Lean Specialist Certificate Program is a series of courses covering the concepts and tools professionals need to support Continuous Improvement efforts in today’s work environment.
URL:https://nepirc.com/event/lean-specialist-certificate-course-6/
CATEGORIES:Lean and Six Sigma
END:VEVENT
BEGIN:VEVENT
DTSTART;TZID=America/New_York:20251022T080000
DTEND;TZID=America/New_York:20251022T120000
DTSTAMP:20260422T065507
CREATED:20250604T154103Z
LAST-MODIFIED:20250604T154103Z
UID:10000225-1761120000-1761134400@nepirc.com
SUMMARY:Creative Problem Solving - Virtual MS Team
DESCRIPTION:Strong problem-solving skills to improve creativity is a crucial asset for any team. There are many methods that take you through a structured set of steps to methodically analyze the situation to solve a problem. But many teams stall as they focus on the steps of the process and struggle to open their minds and let their creative thoughts come out. Luckily\, there are many ways to develop problem-solving skills to create innovative solutions.
URL:https://nepirc.com/event/creative-problem-solving/
CATEGORIES:Lean and Six Sigma
END:VEVENT
BEGIN:VEVENT
DTSTART;TZID=America/New_York:20250411T080000
DTEND;TZID=America/New_York:20250411T120000
DTSTAMP:20260422T065507
CREATED:20240723T160124Z
LAST-MODIFIED:20240723T160124Z
UID:10000040-1744358400-1744372800@nepirc.com
SUMMARY:6-S Training
DESCRIPTION:The 6-S System is a series of activities designed to achieve an overall improvement in efficiency\, product quality\, satisfaction of employees\, and mitigation of safety risks. Participants will learn how to apply the six activities that are at the core of the 6-S System: \n  \n 
URL:https://nepirc.com/event/6-s-training/
CATEGORIES:Lean and Six Sigma
END:VEVENT
BEGIN:VEVENT
DTSTART;TZID=America/New_York:20241203T080000
DTEND;TZID=America/New_York:20241203T160000
DTSTAMP:20260422T065507
CREATED:20250604T154214Z
LAST-MODIFIED:20251030T133842Z
UID:10000226-1733212800-1733241600@nepirc.com
SUMMARY:Six Sigma Yellow Belt Training - NEPIRC Hanover Twp
DESCRIPTION:NEPIRC’s Lean Six Sigma Yellow Belt Training course is taught by a certified Master Black Belt and offers practical application exercises for each step in the DMAIC (Define\, Measure\, Analyze\, Improve & Control) process.
URL:https://nepirc.com/event/six-sigma-yellow-belt-hanover/
CATEGORIES:Lean and Six Sigma
END:VEVENT
BEGIN:VEVENT
DTSTART;TZID=America/New_York:20241119T080000
DTEND;TZID=America/New_York:20241119T160000
DTSTAMP:20260422T065507
CREATED:20240718T135703Z
LAST-MODIFIED:20240718T135703Z
UID:10000023-1732003200-1732032000@nepirc.com
SUMMARY:Six Sigma Yellow Belt
DESCRIPTION:NEPIRC’s Lean Six Sigma Yellow Belt Training course is taught by a certified Master Black Belt and offers practical application exercises for each step in the DMAIC (Define\, Measure\, Analyze\, Improve & Control) process.
URL:https://nepirc.com/event/six-sigma-yellow-belt/
CATEGORIES:Lean and Six Sigma
END:VEVENT
BEGIN:VEVENT
DTSTART;TZID=America/New_York:20240920T080000
DTEND;TZID=America/New_York:20240920T120000
DTSTAMP:20260422T065507
CREATED:20240718T135302Z
LAST-MODIFIED:20240718T135302Z
UID:10000016-1726819200-1726833600@nepirc.com
SUMMARY:Lean Principles 101
DESCRIPTION:NEPIRC’s Lean Principles overview class helps participants start the “thinking” part of the cultural transformation by teaching the 8 wastes of manufacturing and identifying value-added vs. non-value-added activities. 
URL:https://nepirc.com/event/lean-principles-101-3/
CATEGORIES:Lean and Six Sigma
END:VEVENT
END:VCALENDAR