BEGIN:VCALENDAR
VERSION:2.0
PRODID:-//NEPIRC - ECPv6.15.17//NONSGML v1.0//EN
CALSCALE:GREGORIAN
METHOD:PUBLISH
X-ORIGINAL-URL:https://nepirc.com
X-WR-CALDESC:Events for NEPIRC
REFRESH-INTERVAL;VALUE=DURATION:PT1H
X-Robots-Tag:noindex
X-PUBLISHED-TTL:PT1H
BEGIN:VTIMEZONE
TZID:America/New_York
BEGIN:DAYLIGHT
TZOFFSETFROM:-0500
TZOFFSETTO:-0400
TZNAME:EDT
DTSTART:20230312T070000
END:DAYLIGHT
BEGIN:STANDARD
TZOFFSETFROM:-0400
TZOFFSETTO:-0500
TZNAME:EST
DTSTART:20231105T060000
END:STANDARD
BEGIN:DAYLIGHT
TZOFFSETFROM:-0500
TZOFFSETTO:-0400
TZNAME:EDT
DTSTART:20240310T070000
END:DAYLIGHT
BEGIN:STANDARD
TZOFFSETFROM:-0400
TZOFFSETTO:-0500
TZNAME:EST
DTSTART:20241103T060000
END:STANDARD
BEGIN:DAYLIGHT
TZOFFSETFROM:-0500
TZOFFSETTO:-0400
TZNAME:EDT
DTSTART:20250309T070000
END:DAYLIGHT
BEGIN:STANDARD
TZOFFSETFROM:-0400
TZOFFSETTO:-0500
TZNAME:EST
DTSTART:20251102T060000
END:STANDARD
BEGIN:DAYLIGHT
TZOFFSETFROM:-0500
TZOFFSETTO:-0400
TZNAME:EDT
DTSTART:20260308T070000
END:DAYLIGHT
BEGIN:STANDARD
TZOFFSETFROM:-0400
TZOFFSETTO:-0500
TZNAME:EST
DTSTART:20261101T060000
END:STANDARD
BEGIN:DAYLIGHT
TZOFFSETFROM:-0500
TZOFFSETTO:-0400
TZNAME:EDT
DTSTART:20270314T070000
END:DAYLIGHT
BEGIN:STANDARD
TZOFFSETFROM:-0400
TZOFFSETTO:-0500
TZNAME:EST
DTSTART:20271107T060000
END:STANDARD
END:VTIMEZONE
BEGIN:VEVENT
DTSTART;VALUE=DATE:20260407
DTEND;VALUE=DATE:20260408
DTSTAMP:20260421T095418
CREATED:20250604T153228Z
LAST-MODIFIED:20250604T153228Z
UID:10000220-1775520000-1775606399@nepirc.com
SUMMARY:Change Management - Virtually via MS Teams
DESCRIPTION:This session helps individuals identify and develop the skills that make them more effective at leading change\, whether the change is one they have chosen to initiate or one they have been asked to implement. Additionally\, attendees gain an understanding of change reactions and how to deal with them. \n\n\n\n 
URL:https://nepirc.com/event/change-management-virtual/
CATEGORIES:Leadership Development
END:VEVENT
BEGIN:VEVENT
DTSTART;VALUE=DATE:20260401
DTEND;VALUE=DATE:20260402
DTSTAMP:20260421T095418
CREATED:20250604T153012Z
LAST-MODIFIED:20250604T153012Z
UID:10000219-1775001600-1775087999@nepirc.com
SUMMARY:8-Week Leadership Development Essentials -TekRidge Center
DESCRIPTION:Leadership Development Essentials is a series of eight highly interactive sessions that use a variety of instructional techniques\, including group discussions\, role playing\, self-assessments\, homework and practical applications. Participants are encouraged to bring their real-life professional issues to each session to facilitate on-the-job application of the skills learned.
URL:https://nepirc.com/event/8-week-leadership-development-essentials-tekridge-april-26/
CATEGORIES:Leadership Development
END:VEVENT
BEGIN:VEVENT
DTSTART;VALUE=DATE:20260205
DTEND;VALUE=DATE:20260206
DTSTAMP:20260421T095418
CREATED:20250604T152612Z
LAST-MODIFIED:20250604T152612Z
UID:10000217-1770249600-1770335999@nepirc.com
SUMMARY:Applied Project Management Program - TekRidge Center
DESCRIPTION:Enhance project processes and heighten customer satisfaction with project management training! \n\n\n\n 
URL:https://nepirc.com/event/applied-project-management-tekridge/
CATEGORIES:Leadership Development
END:VEVENT
BEGIN:VEVENT
DTSTART;VALUE=DATE:20260203
DTEND;VALUE=DATE:20260204
DTSTAMP:20260421T095418
CREATED:20250604T152015Z
LAST-MODIFIED:20250604T152015Z
UID:10000216-1770076800-1770163199@nepirc.com
SUMMARY:Conflict Management - Virtually via MS Teams
DESCRIPTION:Participants will learn their personal approaches to stressful situations through assessment and understand how to address various levels of anger and stress. \n\n\n\n 
URL:https://nepirc.com/event/conflcit-management/
CATEGORIES:Leadership Development
END:VEVENT
BEGIN:VEVENT
DTSTART;VALUE=DATE:20260128
DTEND;VALUE=DATE:20260129
DTSTAMP:20260421T095418
CREATED:20250604T143050Z
LAST-MODIFIED:20250604T143050Z
UID:10000215-1769558400-1769644799@nepirc.com
SUMMARY:Two-Hour Leadership Development Essentials -TekRidge Center
DESCRIPTION:Don’t miss out on this opportunity to start developing future leaders!
URL:https://nepirc.com/event/two-hour-leadership-development-essentials-tekridge/
CATEGORIES:Leadership Development
END:VEVENT
BEGIN:VEVENT
DTSTART;VALUE=DATE:20251007
DTEND;VALUE=DATE:20251008
DTSTAMP:20260421T095418
CREATED:20250604T142807Z
LAST-MODIFIED:20250828T151652Z
UID:10000213-1759795200-1759881599@nepirc.com
SUMMARY:Emotional Intelligence - Virtual MS Teams
DESCRIPTION:This interactive and enlightening session is designed to enhance emotional intelligence and foster meaningful connections in both personal and professional realms.
URL:https://nepirc.com/event/emotional-intelligence/
CATEGORIES:Leadership Development
END:VEVENT
BEGIN:VEVENT
DTSTART;VALUE=DATE:20251001
DTEND;VALUE=DATE:20251002
DTSTAMP:20260421T095418
CREATED:20250604T142942Z
LAST-MODIFIED:20250604T142942Z
UID:10000214-1759276800-1759363199@nepirc.com
SUMMARY:8-Week Leadership Development Essentials -NEPIRC Hanover Twp
DESCRIPTION:Leadership Development Essentials is a series of eight highly interactive sessions that use a variety of instructional techniques\, including group discussions\, role playing\, self-assessments\, homework and practical applications. Participants are encouraged to bring their real-life professional issues to each session to facilitate on-the-job application of the skills learned.
URL:https://nepirc.com/event/8-week-leadership-development-essentials-fall-2025/
CATEGORIES:Leadership Development
END:VEVENT
BEGIN:VEVENT
DTSTART;VALUE=DATE:20250903
DTEND;VALUE=DATE:20250904
DTSTAMP:20260421T095418
CREATED:20250604T142659Z
LAST-MODIFIED:20250604T190351Z
UID:10000212-1756857600-1756943999@nepirc.com
SUMMARY:Strategic Insights in Action: Leveraging PESTEL & SWOT for Smarter Decisions
DESCRIPTION:This focused\, interactive 2-hour training session equips participants with practical tools to assess both internal and external factors affecting their organization through the PESTEL and SWOT frameworks.
URL:https://nepirc.com/event/pestel-and-swot-virtual/
CATEGORIES:Leadership Development
END:VEVENT
BEGIN:VEVENT
DTSTART;VALUE=DATE:20250814
DTEND;VALUE=DATE:20250815
DTSTAMP:20260421T095418
CREATED:20250604T142532Z
LAST-MODIFIED:20250604T142532Z
UID:10000211-1755129600-1755215999@nepirc.com
SUMMARY:Two-Hour Leadership Development Essentials -Community Giving Foundation
DESCRIPTION:Don’t miss out on this opportunity to start developing future leaders!
URL:https://nepirc.com/event/two-hour-leadership-development-essentials-nepirc-community-giving/
CATEGORIES:Leadership Development
END:VEVENT
BEGIN:VEVENT
DTSTART;VALUE=DATE:20250812
DTEND;VALUE=DATE:20250813
DTSTAMP:20260421T095418
CREATED:20250604T142404Z
LAST-MODIFIED:20250604T142404Z
UID:10000210-1754956800-1755043199@nepirc.com
SUMMARY:Two-Hour Leadership Development Essentials -NEPIRC Hanover Twp.
DESCRIPTION:Don’t miss out on this opportunity to start developing future leaders!
URL:https://nepirc.com/event/2-hour-leadership-development-essentials-nepirc-hanover/
CATEGORIES:Leadership Development
END:VEVENT
BEGIN:VEVENT
DTSTART;VALUE=DATE:20250709
DTEND;VALUE=DATE:20250710
DTSTAMP:20260421T095418
CREATED:20250424T200312Z
LAST-MODIFIED:20250424T200312Z
UID:10000205-1752019200-1752105599@nepirc.com
SUMMARY:8-Week Leadership Development Essentials
DESCRIPTION:What is NEPIRC’s Leadership Development Essentials program?\nLeadership Development Essentials is a series of eight highly interactive sessions that use a variety of instructional techniques\, including group discussions\, role playing\, self-assessments\, homework and practical applications. Participants are encouraged to bring their real-life professional issues to each session to facilitate on-the-job application of the skills learned. \nParticipants will come to understand how to effectively manage today’s workforce in the day-to-day operation of their respective organizations. \nOutline of Sessions:\nWeek 1: Leadership Skills for Team Leaders\, Supervisors and Managers \nWeek 2: Effective Communication Skills \nWeek 3: Conflict Management \nWeek 4: Motivation \nWeek 5: High-Performance Teams: Developing a Culture for Growth Based on Teamwork\, Trust and Transparency \nWeek 6: Change Management \nWeek 7: Creating a Respectful Workplace \nWeek 8: Performance Coaching\, Discipline and Interviewing \nSuccessful course completion and receipt of a NEPIRC completion credential requires attending a minimum of six out of the eight sessions. This ensures that participants engage comprehensively with the material and discussions\, maximizing their learning opportunities throughout the certification program. If a participant does not meet the attendance requirement\, they are eligible to attend a class at a later date.
URL:https://nepirc.com/event/8-week-leadership-development-essentials/
CATEGORIES:Leadership Development
END:VEVENT
BEGIN:VEVENT
DTSTART;VALUE=DATE:20250402
DTEND;VALUE=DATE:20250403
DTSTAMP:20260421T095418
CREATED:20240723T155944Z
LAST-MODIFIED:20250224T160147Z
UID:10000039-1743552000-1743638399@nepirc.com
SUMMARY:8-Week Leadership Development Essentials - Spring Program
DESCRIPTION:Leadership Development Essentials is a series of eight highly interactive sessions that use a variety of instructional techniques\, including group discussions\, role playing\, self-assessments\, homework\, and practical applications.
URL:https://nepirc.com/event/https-www-eventbrite-com-e-8-week-leadership-development-essentials-tekridge-center-jessup-registration-894514275277affoddtdtcreator/
CATEGORIES:Leadership Development
END:VEVENT
BEGIN:VEVENT
DTSTART;TZID=America/New_York:20250205T090000
DTEND;TZID=America/New_York:20250205T110000
DTSTAMP:20260421T095418
CREATED:20241015T184212Z
LAST-MODIFIED:20241015T184212Z
UID:10000197-1738746000-1738753200@nepirc.com
SUMMARY:Applied Project Management Program - NEPIRC Hanover Twp.
DESCRIPTION:NEPIRC is pleased to offer a six-session Applied Project Management Program\, which teaches the basics of project management\, such as learning the proper terminology\, creating project charters\, defining project scope\, developing the project plan\, understanding work breakdown structures (WBS) using MS Project\, and leading and communicating with project teams.
URL:https://nepirc.com/event/applied-project-management-program-nepirc-hanover-twp/
CATEGORIES:Leadership Development,Miscellaneous
END:VEVENT
BEGIN:VEVENT
DTSTART;TZID=America/New_York:20250204T083000
DTEND;TZID=America/New_York:20250204T103000
DTSTAMP:20260421T095418
CREATED:20240719T210941Z
LAST-MODIFIED:20250123T141906Z
UID:10000031-1738657800-1738665000@nepirc.com
SUMMARY:Coffee & Coaching: High-Impact Leadership - Jessup
DESCRIPTION:Join NEPIRC at the TekRidge Center for a special first look at its newest leadership program\, High-Impact Leadership. Led by Leo Gilroy\, NEPIRC’s Director of Leadership and Organizational Development\, this interactive session will provide a high-level overview of personality style\, psychological safety\, high-performance teams\, emotional intelligence\, innovation by design\, project management\, and strategic mindset. 
URL:https://nepirc.com/event/coffee-coaching-high-impact-leadership-jessup/
CATEGORIES:Leadership Development
END:VEVENT
BEGIN:VEVENT
DTSTART;TZID=America/New_York:20250129T083000
DTEND;TZID=America/New_York:20250129T103000
DTSTAMP:20260421T095418
CREATED:20240719T210355Z
LAST-MODIFIED:20240719T210355Z
UID:10000029-1738139400-1738146600@nepirc.com
SUMMARY:2-Hour Leadership Development Essentials - Jessup
DESCRIPTION:NEPIRC would like to extend an invitation to two members of your organization to attend a two-hour seminar on Leadership Development. This event is an excellent way to kick-start your leadership development initiatives.
URL:https://nepirc.com/event/2-hour-leadership-development-essentials-jessup/
CATEGORIES:Leadership Development
END:VEVENT
BEGIN:VEVENT
DTSTART;TZID=America/New_York:20241210T090000
DTEND;TZID=America/New_York:20241210T110000
DTSTAMP:20260421T095418
CREATED:20240718T135704Z
LAST-MODIFIED:20240718T135704Z
UID:10000026-1733821200-1733828400@nepirc.com
SUMMARY:2-Hour Leadership Development Essentials - Towanda
DESCRIPTION:NEPIRC would like to extend an invitation to two members of your organization to attend a two-hour seminar on Leadership Development. This event is an excellent way to kick-start your leadership development initiatives.
URL:https://nepirc.com/event/2-hour-leadership-development-essentials-towanda/
CATEGORIES:Leadership Development
END:VEVENT
BEGIN:VEVENT
DTSTART;TZID=America/New_York:20241205T090000
DTEND;TZID=America/New_York:20241205T110000
DTSTAMP:20260421T095418
CREATED:20240718T135704Z
LAST-MODIFIED:20240718T135704Z
UID:10000025-1733389200-1733396400@nepirc.com
SUMMARY:2-Hour Leadership Development Essentials - Wellsboro
DESCRIPTION:NEPIRC would like to extend an invitation to two members of your organization to attend a two-hour seminar on Leadership Development. This event is an excellent way to kick-start your leadership development initiatives.
URL:https://nepirc.com/event/2-hour-leadership-development-essentials-wellsboro/
CATEGORIES:Leadership Development
END:VEVENT
BEGIN:VEVENT
DTSTART;TZID=America/New_York:20240801T083000
DTEND;TZID=America/New_York:20240801T103000
DTSTAMP:20260421T095418
CREATED:20240718T135258Z
LAST-MODIFIED:20240718T135258Z
UID:10000011-1722501000-1722508200@nepirc.com
SUMMARY:2-Hour Leadership Development Essentials - Hanover Twp.
DESCRIPTION:
URL:https://nepirc.com/event/2-hour-leadership-development-essentials-hanover-twp/
CATEGORIES:Leadership Development
END:VEVENT
BEGIN:VEVENT
DTSTART;TZID=America/New_York:20240710T083000
DTEND;TZID=America/New_York:20240710T113000
DTSTAMP:20260421T095418
CREATED:20240718T135258Z
LAST-MODIFIED:20240718T135258Z
UID:10000008-1720600200-1720611000@nepirc.com
SUMMARY:8-Week Leadership Development Essentials - Summer Program
DESCRIPTION:
URL:https://nepirc.com/event/8-week-leadership-development-essentials-summer-program/
CATEGORIES:Leadership Development
END:VEVENT
END:VCALENDAR