BEGIN:VCALENDAR
VERSION:2.0
PRODID:-//NEPIRC - ECPv6.15.17//NONSGML v1.0//EN
CALSCALE:GREGORIAN
METHOD:PUBLISH
X-WR-CALNAME:NEPIRC
X-ORIGINAL-URL:https://nepirc.com
X-WR-CALDESC:Events for NEPIRC
REFRESH-INTERVAL;VALUE=DURATION:PT1H
X-Robots-Tag:noindex
X-PUBLISHED-TTL:PT1H
BEGIN:VTIMEZONE
TZID:America/New_York
BEGIN:DAYLIGHT
TZOFFSETFROM:-0500
TZOFFSETTO:-0400
TZNAME:EDT
DTSTART:20250309T070000
END:DAYLIGHT
BEGIN:STANDARD
TZOFFSETFROM:-0400
TZOFFSETTO:-0500
TZNAME:EST
DTSTART:20251102T060000
END:STANDARD
BEGIN:DAYLIGHT
TZOFFSETFROM:-0500
TZOFFSETTO:-0400
TZNAME:EDT
DTSTART:20260308T070000
END:DAYLIGHT
BEGIN:STANDARD
TZOFFSETFROM:-0400
TZOFFSETTO:-0500
TZNAME:EST
DTSTART:20261101T060000
END:STANDARD
BEGIN:DAYLIGHT
TZOFFSETFROM:-0500
TZOFFSETTO:-0400
TZNAME:EDT
DTSTART:20270314T070000
END:DAYLIGHT
BEGIN:STANDARD
TZOFFSETFROM:-0400
TZOFFSETTO:-0500
TZNAME:EST
DTSTART:20271107T060000
END:STANDARD
END:VTIMEZONE
BEGIN:VEVENT
DTSTART;TZID=America/New_York:20260204T080000
DTEND;TZID=America/New_York:20260204T120000
DTSTAMP:20260421T063028
CREATED:20250604T154500Z
LAST-MODIFIED:20250604T154500Z
UID:10000227-1770192000-1770206400@nepirc.com
SUMMARY:Using Digital Twins in Manufacturing - Virtually via MS Teams
DESCRIPTION:Come to this workshop and find out how Digital Twins can bring value and efficiencies to multiple areas of your business.
URL:https://nepirc.com/event/using-digital-twins-in-manufacturing-virtual/
CATEGORIES:Lean and Six Sigma
END:VEVENT
END:VCALENDAR