BEGIN:VCALENDAR
VERSION:2.0
PRODID:-//NEPIRC - ECPv6.15.17//NONSGML v1.0//EN
CALSCALE:GREGORIAN
METHOD:PUBLISH
X-WR-CALNAME:NEPIRC
X-ORIGINAL-URL:https://nepirc.com
X-WR-CALDESC:Events for NEPIRC
REFRESH-INTERVAL;VALUE=DURATION:PT1H
X-Robots-Tag:noindex
X-PUBLISHED-TTL:PT1H
BEGIN:VTIMEZONE
TZID:America/New_York
BEGIN:DAYLIGHT
TZOFFSETFROM:-0500
TZOFFSETTO:-0400
TZNAME:EDT
DTSTART:20240310T070000
END:DAYLIGHT
BEGIN:STANDARD
TZOFFSETFROM:-0400
TZOFFSETTO:-0500
TZNAME:EST
DTSTART:20241103T060000
END:STANDARD
BEGIN:DAYLIGHT
TZOFFSETFROM:-0500
TZOFFSETTO:-0400
TZNAME:EDT
DTSTART:20250309T070000
END:DAYLIGHT
BEGIN:STANDARD
TZOFFSETFROM:-0400
TZOFFSETTO:-0500
TZNAME:EST
DTSTART:20251102T060000
END:STANDARD
BEGIN:DAYLIGHT
TZOFFSETFROM:-0500
TZOFFSETTO:-0400
TZNAME:EDT
DTSTART:20260308T070000
END:DAYLIGHT
BEGIN:STANDARD
TZOFFSETFROM:-0400
TZOFFSETTO:-0500
TZNAME:EST
DTSTART:20261101T060000
END:STANDARD
END:VTIMEZONE
BEGIN:VEVENT
DTSTART;TZID=America/New_York:20250204T083000
DTEND;TZID=America/New_York:20250204T103000
DTSTAMP:20260423T205034
CREATED:20240719T210941Z
LAST-MODIFIED:20250123T141906Z
UID:10000031-1738657800-1738665000@nepirc.com
SUMMARY:Coffee & Coaching: High-Impact Leadership - Jessup
DESCRIPTION:Join NEPIRC at the TekRidge Center for a special first look at its newest leadership program\, High-Impact Leadership. Led by Leo Gilroy\, NEPIRC’s Director of Leadership and Organizational Development\, this interactive session will provide a high-level overview of personality style\, psychological safety\, high-performance teams\, emotional intelligence\, innovation by design\, project management\, and strategic mindset. 
URL:https://nepirc.com/event/coffee-coaching-high-impact-leadership-jessup/
CATEGORIES:Leadership Development
END:VEVENT
END:VCALENDAR